BEGIN:VCALENDAR
VERSION:2.0
PRODID:icalendar-ruby
CALSCALE:GREGORIAN
METHOD:PUBLISH
BEGIN:VEVENT
DTSTAMP:20260422T084636Z
UID:5-393702@warsawmc.org
DTSTART:20261004T140000Z
DTEND:20261004T150000Z
CLASS:PUBLIC
CREATED:20260421T210010
DESCRIPTION:Sunday Worship
LAST-MODIFIED:20260421T210010
LOCATION:
SUMMARY:Sunday Worship
URL;VALUE=URI:https://warsawmc.org/events/sunday-worship/2026-10-04
END:VEVENT
END:VCALENDAR
